BEGIN:VCALENDAR
VERSION:2.0
PRODID:-//Feuerwehr Stadt Mainburg - ECPv6.0.7.1//NONSGML v1.0//EN
CALSCALE:GREGORIAN
METHOD:PUBLISH
X-ORIGINAL-URL:https://www.feuerwehr-mainburg.de
X-WR-CALDESC:Veranstaltungen für Feuerwehr Stadt Mainburg
REFRESH-INTERVAL;VALUE=DURATION:PT1H
X-Robots-Tag:noindex
X-PUBLISHED-TTL:PT1H
BEGIN:VTIMEZONE
TZID:Europe/Berlin
BEGIN:DAYLIGHT
TZOFFSETFROM:+0100
TZOFFSETTO:+0200
TZNAME:CEST
DTSTART:20260329T010000
END:DAYLIGHT
BEGIN:STANDARD
TZOFFSETFROM:+0200
TZOFFSETTO:+0100
TZNAME:CET
DTSTART:20261025T010000
END:STANDARD
END:VTIMEZONE
BEGIN:VEVENT
DTSTART;TZID=Europe/Berlin:20260501T100000
DTEND;TZID=Europe/Berlin:20260501T230000
DTSTAMP:20260421T105202
CREATED:20251218T184604Z
LAST-MODIFIED:20251218T203908Z
UID:13877-1777629600-1777676400@www.feuerwehr-mainburg.de
SUMMARY:Verein: Maifeier
DESCRIPTION:Aufstellen ab 10:00 Uhr! \nMaifeier ab 17:00 Uhr!
URL:https://www.feuerwehr-mainburg.de/event/verein-maifeier-5/
CATEGORIES:Verein
END:VEVENT
BEGIN:VEVENT
DTSTART;TZID=Europe/Berlin:20260504T190000
DTEND;TZID=Europe/Berlin:20260504T210000
DTSTAMP:20260421T105202
CREATED:20251218T184646Z
LAST-MODIFIED:20251218T184646Z
UID:13879-1777921200-1777928400@www.feuerwehr-mainburg.de
SUMMARY:Gruppenführer: Gruppenführersitzung
DESCRIPTION:
URL:https://www.feuerwehr-mainburg.de/event/gruppenfuehrer-gruppenfuehrersitzung/
CATEGORIES:Gruppenführer
END:VEVENT
BEGIN:VEVENT
DTSTART;TZID=Europe/Berlin:20260505T193000
DTEND;TZID=Europe/Berlin:20260505T213000
DTSTAMP:20260421T105202
CREATED:20251218T184534Z
LAST-MODIFIED:20260416T102819Z
UID:13875-1778009400-1778016600@www.feuerwehr-mainburg.de
SUMMARY:Aktive: Saugschlauchkuppeln\, Löschaufbau
DESCRIPTION:
URL:https://www.feuerwehr-mainburg.de/event/aktive-saugschlauchkuppeln-loeschaufbau/
CATEGORIES:Aktive
END:VEVENT
BEGIN:VEVENT
DTSTART;TZID=Europe/Berlin:20260506T193000
DTEND;TZID=Europe/Berlin:20260506T213000
DTSTAMP:20260421T105202
CREATED:20251218T184824Z
LAST-MODIFIED:20251218T184824Z
UID:13883-1778095800-1778103000@www.feuerwehr-mainburg.de
SUMMARY:Funk: Mobile EZ – Übung
DESCRIPTION:
URL:https://www.feuerwehr-mainburg.de/event/funk-mobile-ez-uebung/
CATEGORIES:Funkgruppe
END:VEVENT
BEGIN:VEVENT
DTSTART;TZID=Europe/Berlin:20260507T190000
DTEND;TZID=Europe/Berlin:20260507T210000
DTSTAMP:20260421T105202
CREATED:20260108T191026Z
LAST-MODIFIED:20260108T191026Z
UID:14123-1778180400-1778187600@www.feuerwehr-mainburg.de
SUMMARY:Vorstand: Verwaltungsratssitzung
DESCRIPTION:
URL:https://www.feuerwehr-mainburg.de/event/vorstand-verwaltungsratssitzung-5/
CATEGORIES:Vorstand
END:VEVENT
BEGIN:VEVENT
DTSTART;TZID=Europe/Berlin:20260508T190000
DTEND;TZID=Europe/Berlin:20260508T210000
DTSTAMP:20260421T105202
CREATED:20251218T184902Z
LAST-MODIFIED:20251218T184902Z
UID:13885-1778266800-1778274000@www.feuerwehr-mainburg.de
SUMMARY:Jugend: Die Gruppe im Löscheinsatz - FwDV 3 (Theorie)
DESCRIPTION:
URL:https://www.feuerwehr-mainburg.de/event/jugend-die-gruppe-im-loescheinsatz-fwdv-3-theorie/
CATEGORIES:Jugend
END:VEVENT
BEGIN:VEVENT
DTSTART;VALUE=DATE:20260509
DTEND;VALUE=DATE:20260510
DTSTAMP:20260421T105202
CREATED:20260401T094759Z
LAST-MODIFIED:20260401T094759Z
UID:14306-1778284800-1778371199@www.feuerwehr-mainburg.de
SUMMARY:Aktive: Traumatag an der SFSR
DESCRIPTION:Beachte: Vorherige Anmeldung nötig!
URL:https://www.feuerwehr-mainburg.de/event/aktive-traumatag-an-der-sfsr/
CATEGORIES:Aktive
END:VEVENT
BEGIN:VEVENT
DTSTART;TZID=Europe/Berlin:20260512T193000
DTEND;TZID=Europe/Berlin:20260512T213000
DTSTAMP:20260421T105202
CREATED:20251218T185013Z
LAST-MODIFIED:20251218T185013Z
UID:13889-1778614200-1778621400@www.feuerwehr-mainburg.de
SUMMARY:Aktive: THL Rettungssätze
DESCRIPTION:
URL:https://www.feuerwehr-mainburg.de/event/aktive-thl-rettungssaetze-2/
CATEGORIES:Aktive
END:VEVENT
BEGIN:VEVENT
DTSTART;TZID=Europe/Berlin:20260513T190000
DTEND;TZID=Europe/Berlin:20260513T210000
DTSTAMP:20260421T105202
CREATED:20251218T185053Z
LAST-MODIFIED:20251218T185053Z
UID:13891-1778698800-1778706000@www.feuerwehr-mainburg.de
SUMMARY:CSA: Gewöhnungsübung
DESCRIPTION:
URL:https://www.feuerwehr-mainburg.de/event/csa-gewoehnungsuebung-2/
CATEGORIES:CSA
END:VEVENT
BEGIN:VEVENT
DTSTART;TZID=Europe/Berlin:20260514T120000
DTEND;TZID=Europe/Berlin:20260514T230000
DTSTAMP:20260421T105202
CREATED:20251218T185159Z
LAST-MODIFIED:20251218T185159Z
UID:13893-1778760000-1778799600@www.feuerwehr-mainburg.de
SUMMARY:Verein: Vatertag in Mainburg
DESCRIPTION:
URL:https://www.feuerwehr-mainburg.de/event/verein-vatertag-in-mainburg/
CATEGORIES:Verein
END:VEVENT
BEGIN:VEVENT
DTSTART;TZID=Europe/Berlin:20260518T190000
DTEND;TZID=Europe/Berlin:20260518T210000
DTSTAMP:20260421T105202
CREATED:20251218T185236Z
LAST-MODIFIED:20251218T185236Z
UID:13895-1779130800-1779138000@www.feuerwehr-mainburg.de
SUMMARY:Atemschutz: Atemschutzübung
DESCRIPTION:
URL:https://www.feuerwehr-mainburg.de/event/atemschutz-atemschutzuebung-18/
CATEGORIES:Atemschutz
END:VEVENT
BEGIN:VEVENT
DTSTART;TZID=Europe/Berlin:20260519T193000
DTEND;TZID=Europe/Berlin:20260519T213000
DTSTAMP:20260421T105202
CREATED:20251218T185303Z
LAST-MODIFIED:20251218T185303Z
UID:13897-1779219000-1779226200@www.feuerwehr-mainburg.de
SUMMARY:Aktive: Einsatzübung THL
DESCRIPTION:
URL:https://www.feuerwehr-mainburg.de/event/aktive-einsatzuebung-thl-2/
CATEGORIES:Aktive
END:VEVENT
BEGIN:VEVENT
DTSTART;TZID=Europe/Berlin:20260520T190000
DTEND;TZID=Europe/Berlin:20260520T210000
DTSTAMP:20260421T105202
CREATED:20251218T185408Z
LAST-MODIFIED:20251218T185408Z
UID:13899-1779303600-1779310800@www.feuerwehr-mainburg.de
SUMMARY:Hösi / DL-Maschinisten: Arbeiten im absturzgefährdeten Bereich mit DL Maschinisten
DESCRIPTION:
URL:https://www.feuerwehr-mainburg.de/event/hoesi-dl-maschinisten-arbeiten-im-absturzgefaehrdeten-bereich-mit-dl-maschinisten/
CATEGORIES:Hösi
END:VEVENT
BEGIN:VEVENT
DTSTART;TZID=Europe/Berlin:20260522T190000
DTEND;TZID=Europe/Berlin:20260522T210000
DTSTAMP:20260421T105202
CREATED:20251218T185438Z
LAST-MODIFIED:20251218T185438Z
UID:13901-1779476400-1779483600@www.feuerwehr-mainburg.de
SUMMARY:Jugend: Die Gruppe im Löscheinsatz - FwDV 3 (Praxis)
DESCRIPTION:
URL:https://www.feuerwehr-mainburg.de/event/jugend-die-gruppe-im-loescheinsatz-fwdv-3-praxis/
CATEGORIES:Jugend
END:VEVENT
END:VCALENDAR